BEGIN:VCALENDAR
PRODID:-//IT Region Stuttgart //NONSGML Events //EN
VERSION:2.0
BEGIN:VTIMEZONE
TZID:Europe/Berlin
BEGIN:STANDARD
TZOFFSETFROM:+0100
TZOFFSETTO:+0100
DTSTART:19701025T030000
TZNAME:CEST
END:STANDARD
END:VTIMEZONE
METHOD:PUBLISH
BEGIN:VEVENT
UID:38030
URL;VALUE=URI:https://it.region-stuttgart.de/termine/workshop-open-source-software-a-business-opportunity-an-open-discussion/
DESCRIPTION:Workshop &#8211\; Open Source Software &#8211\; A Business Opportunity &#8211\; An Open Discussion https://it.region-stuttgart.de/termine/workshop-open-source-software-a-business-opportunity-an-open-discussion/
DTSTAMP:20260422T222336Z
ORGANIZER:IT Region Stuttgart
DTSTART:20031119T150000
DTEND:20031119T150000
LOCATION:
SUMMARY:Workshop – Open Source Software – A Business Opportunity
END:VEVENT
END:VCALENDAR
