BEGIN:VCALENDAR
PRODID:-//IT Region Stuttgart //NONSGML Events //EN
VERSION:2.0
BEGIN:VTIMEZONE
TZID:Europe/Berlin
BEGIN:STANDARD
TZOFFSETFROM:+0100
TZOFFSETTO:+0100
DTSTART:19701025T030000
TZNAME:CEST
END:STANDARD
END:VTIMEZONE
METHOD:PUBLISH
BEGIN:VEVENT
UID:38218
URL;VALUE=URI:https://it.region-stuttgart.de/termine/online-event-nachhaltige-industrie-4-0-und-iot-community-2022-05/
DESCRIPTION:Online Event | Nachhaltige Industrie 4.0 und IoT Community | 2022.05 https://it.region-stuttgart.de/termine/online-event-nachhaltige-industrie-4-0-und-iot-community-2022-05/
DTSTAMP:20260419T125240Z
ORGANIZER:IT Region Stuttgart
DTSTART:20220517T180000
DTEND:20220517T210000
LOCATION:
SUMMARY:Online Event | Nachhaltige Industrie 4.0 und IoT Community |
END:VEVENT
END:VCALENDAR
