BEGIN:VCALENDAR
PRODID:-//IT Region Stuttgart //NONSGML Events //EN
VERSION:2.0
BEGIN:VTIMEZONE
TZID:Europe/Berlin
BEGIN:STANDARD
TZOFFSETFROM:+0100
TZOFFSETTO:+0100
DTSTART:19701025T030000
TZNAME:CEST
END:STANDARD
END:VTIMEZONE
METHOD:PUBLISH
BEGIN:VEVENT
UID:38694
URL;VALUE=URI:https://it.region-stuttgart.de/termine/stuttgart-vr-ar-meetup/
DESCRIPTION:Stuttgart VR &amp\; AR Meetup https://it.region-stuttgart.de/termine/stuttgart-vr-ar-meetup/
DTSTAMP:20260423T105403Z
ORGANIZER:IT Region Stuttgart
DTSTART:20160213T190000
DTEND:20160213T220000
LOCATION:
SUMMARY:Stuttgart VR & AR Meetup
END:VEVENT
END:VCALENDAR
