BEGIN:VCALENDAR
PRODID:-//IT Region Stuttgart //NONSGML Events //EN
VERSION:2.0
BEGIN:VTIMEZONE
TZID:Europe/Berlin
BEGIN:STANDARD
TZOFFSETFROM:+0100
TZOFFSETTO:+0100
DTSTART:19701025T030000
TZNAME:CEST
END:STANDARD
END:VTIMEZONE
METHOD:PUBLISH
BEGIN:VEVENT
UID:38746
URL;VALUE=URI:https://it.region-stuttgart.de/termine/open-source-crm-pitch/
DESCRIPTION:Open Source CRM Pitch https://it.region-stuttgart.de/termine/open-source-crm-pitch/
DTSTAMP:20260421T003608Z
ORGANIZER:IT Region Stuttgart
DTSTART:20070717T170000
DTEND:20070717T200000
LOCATION:
SUMMARY:Open Source CRM Pitch
END:VEVENT
END:VCALENDAR
