BEGIN:VCALENDAR
PRODID:-//IT Region Stuttgart //NONSGML Events //EN
VERSION:2.0
BEGIN:VTIMEZONE
TZID:Europe/Berlin
BEGIN:STANDARD
TZOFFSETFROM:+0100
TZOFFSETTO:+0100
DTSTART:19701025T030000
TZNAME:CEST
END:STANDARD
END:VTIMEZONE
METHOD:PUBLISH
BEGIN:VEVENT
UID:39014
URL;VALUE=URI:https://it.region-stuttgart.de/termine/digital-breakfast-10-2018/
DESCRIPTION:Digital Breakfast 10 | 2018 https://it.region-stuttgart.de/termine/digital-breakfast-10-2018/
DTSTAMP:20260422T095320Z
ORGANIZER:IT Region Stuttgart
DTSTART:20181023T090000
DTEND:20181023T120000
LOCATION:
SUMMARY:Digital Breakfast 10 | 2018
END:VEVENT
END:VCALENDAR
