BEGIN:VCALENDAR
PRODID:-//IT Region Stuttgart //NONSGML Events //EN
VERSION:2.0
BEGIN:VTIMEZONE
TZID:Europe/Berlin
BEGIN:STANDARD
TZOFFSETFROM:+0100
TZOFFSETTO:+0100
DTSTART:19701025T030000
TZNAME:CEST
END:STANDARD
END:VTIMEZONE
METHOD:PUBLISH
BEGIN:VEVENT
UID:39368
URL;VALUE=URI:https://it.region-stuttgart.de/termine/digitalgipfel-2018-wirtschaft-4-0-bw/
DESCRIPTION:Digitalgipfel 2018 &#8211\; Wirtschaft 4.0 BW https://it.region-stuttgart.de/termine/digitalgipfel-2018-wirtschaft-4-0-bw/
DTSTAMP:20260422T235522Z
ORGANIZER:IT Region Stuttgart
DTSTART:20180205T090000
DTEND:20180205T140000
LOCATION:
SUMMARY:Digitalgipfel 2018 – Wirtschaft 4.0 BW
END:VEVENT
END:VCALENDAR
