BEGIN:VCALENDAR
PRODID:-//IT Region Stuttgart //NONSGML Events //EN
VERSION:2.0
BEGIN:VTIMEZONE
TZID:Europe/Berlin
BEGIN:STANDARD
TZOFFSETFROM:+0100
TZOFFSETTO:+0100
DTSTART:19701025T030000
TZNAME:CEST
END:STANDARD
END:VTIMEZONE
METHOD:PUBLISH
BEGIN:VEVENT
UID:39951
URL;VALUE=URI:https://it.region-stuttgart.de/termine/ai-xpress-startup-curriculum-workshop-26-2-2-2-2-2-2/
DESCRIPTION:Startup xpress Curriculum &#8211\; Workshop: Pitch Training https://it.region-stuttgart.de/termine/ai-xpress-startup-curriculum-workshop-26-2-2-2-2-2-2/
DTSTAMP:20260421T104523Z
ORGANIZER:IT Region Stuttgart
DTSTART:20240202T160000
DTEND:20240202T190000
LOCATION:
SUMMARY:Startup xpress Curriculum – Workshop: Pitch Training
END:VEVENT
END:VCALENDAR
