BEGIN:VCALENDAR
PRODID:-//IT Region Stuttgart //NONSGML Events //EN
VERSION:2.0
BEGIN:VTIMEZONE
TZID:Europe/Berlin
BEGIN:STANDARD
TZOFFSETFROM:+0100
TZOFFSETTO:+0100
DTSTART:19701025T030000
TZNAME:CEST
END:STANDARD
END:VTIMEZONE
METHOD:PUBLISH
BEGIN:VEVENT
UID:40363
URL;VALUE=URI:https://it.region-stuttgart.de/termine/von-der-intuitiven-zur-methodischen-selbstfuehrung-2-2/
DESCRIPTION:Blinde Flecken &#8211\; Umgang mit unseren ‚Unconscious Bias‘ https://it.region-stuttgart.de/termine/von-der-intuitiven-zur-methodischen-selbstfuehrung-2-2/
DTSTAMP:20260421T103901Z
ORGANIZER:IT Region Stuttgart
DTSTART:20241022T090000
DTEND:20241022T113000
LOCATION:
SUMMARY:Blinde Flecken – Umgang mit unseren ‚Unconscious Bias‘
END:VEVENT
END:VCALENDAR
