BEGIN:VCALENDAR
PRODID:-//IT Region Stuttgart //NONSGML Events //EN
VERSION:2.0
BEGIN:VTIMEZONE
TZID:Europe/Berlin
BEGIN:STANDARD
TZOFFSETFROM:+0100
TZOFFSETTO:+0100
DTSTART:19701025T030000
TZNAME:CEST
END:STANDARD
END:VTIMEZONE
METHOD:PUBLISH
BEGIN:VEVENT
UID:40365
URL;VALUE=URI:https://it.region-stuttgart.de/termine/candidate-journey-das-a-bis-z-des-recruitings/
DESCRIPTION:Candidate Journey &#8211\; Das A bis Z des Recruitings https://it.region-stuttgart.de/termine/candidate-journey-das-a-bis-z-des-recruitings/
DTSTAMP:20260421T104523Z
ORGANIZER:IT Region Stuttgart
DTSTART:20250130T090000
DTEND:20250130T113000
LOCATION:
SUMMARY:Candidate Journey – Das A bis Z des Recruitings
END:VEVENT
END:VCALENDAR
