BEGIN:VCALENDAR
PRODID:-//IT Region Stuttgart //NONSGML Events //EN
VERSION:2.0
BEGIN:VTIMEZONE
TZID:Europe/Berlin
BEGIN:STANDARD
TZOFFSETFROM:+0100
TZOFFSETTO:+0100
DTSTART:19701025T030000
TZNAME:CEST
END:STANDARD
END:VTIMEZONE
METHOD:PUBLISH
BEGIN:VEVENT
UID:40369
URL;VALUE=URI:https://it.region-stuttgart.de/termine/human-resources-hr-rollen-und-aufgabe/
DESCRIPTION:Human Resources (HR) &#8211\; Rollen und Aufgabe https://it.region-stuttgart.de/termine/human-resources-hr-rollen-und-aufgabe/
DTSTAMP:20260421T103119Z
ORGANIZER:IT Region Stuttgart
DTSTART:20250516T090000
DTEND:20250516T113000
LOCATION:
SUMMARY:Human Resources (HR) – Rollen und Aufgabe
END:VEVENT
END:VCALENDAR
