BEGIN:VCALENDAR
PRODID:-//IT Region Stuttgart //NONSGML Events //EN
VERSION:2.0
BEGIN:VTIMEZONE
TZID:Europe/Berlin
BEGIN:STANDARD
TZOFFSETFROM:+0100
TZOFFSETTO:+0100
DTSTART:19701025T030000
TZNAME:CEST
END:STANDARD
END:VTIMEZONE
METHOD:PUBLISH
BEGIN:VEVENT
UID:40381
URL;VALUE=URI:https://it.region-stuttgart.de/termine/ada-lovelace-festival-2024/
DESCRIPTION:Ada Lovelace Festival 2024 https://it.region-stuttgart.de/termine/ada-lovelace-festival-2024/
DTSTAMP:20260421T102905Z
ORGANIZER:IT Region Stuttgart
DTSTART:20241106T100000
DTEND:20241107T173000
LOCATION:
SUMMARY:Ada Lovelace Festival 2024
END:VEVENT
END:VCALENDAR
