BEGIN:VCALENDAR
PRODID:-//IT Region Stuttgart //NONSGML Events //EN
VERSION:2.0
BEGIN:VTIMEZONE
TZID:Europe/Berlin
BEGIN:STANDARD
TZOFFSETFROM:+0100
TZOFFSETTO:+0100
DTSTART:19701025T030000
TZNAME:CEST
END:STANDARD
END:VTIMEZONE
METHOD:PUBLISH
BEGIN:VEVENT
UID:40407
URL;VALUE=URI:https://it.region-stuttgart.de/termine/online-infoveranstaltung-zum-thema-cloud-sustainability/
DESCRIPTION:Infoveranstaltung zum Thema &#8222\;Cloud Sustainability&#8220\; https://it.region-stuttgart.de/termine/online-infoveranstaltung-zum-thema-cloud-sustainability/
DTSTAMP:20260421T104143Z
ORGANIZER:IT Region Stuttgart
DTSTART:20241112T090000
DTEND:20241112T094500
LOCATION:
SUMMARY:Infoveranstaltung zum Thema „Cloud Sustainability“
END:VEVENT
END:VCALENDAR
