BEGIN:VCALENDAR
PRODID:-//IT Region Stuttgart //NONSGML Events //EN
VERSION:2.0
BEGIN:VTIMEZONE
TZID:Europe/Berlin
BEGIN:STANDARD
TZOFFSETFROM:+0100
TZOFFSETTO:+0100
DTSTART:19701025T030000
TZNAME:CEST
END:STANDARD
END:VTIMEZONE
METHOD:PUBLISH
BEGIN:VEVENT
UID:40679
URL;VALUE=URI:https://it.region-stuttgart.de/termine/cybersecurity-region-stuttgart-meetup-2025-06/
DESCRIPTION:Cybersecurity Region Stuttgart Meetup | 2025.06 @ Bital System https://it.region-stuttgart.de/termine/cybersecurity-region-stuttgart-meetup-2025-06/
DTSTAMP:20260421T104210Z
ORGANIZER:IT Region Stuttgart
DTSTART:20250612T180000
DTEND:20250612T203000
LOCATION:
SUMMARY:Cybersecurity Region Stuttgart Meetup | 2025.06 @ Bital Syst
END:VEVENT
END:VCALENDAR
