BEGIN:VCALENDAR
PRODID:-//IT Region Stuttgart //NONSGML Events //EN
VERSION:2.0
BEGIN:VTIMEZONE
TZID:Europe/Berlin
BEGIN:STANDARD
TZOFFSETFROM:+0100
TZOFFSETTO:+0100
DTSTART:19701025T030000
TZNAME:CEST
END:STANDARD
END:VTIMEZONE
METHOD:PUBLISH
BEGIN:VEVENT
UID:40787
URL;VALUE=URI:https://it.region-stuttgart.de/termine/advanced-leadership-modul3/
DESCRIPTION:Weiterbildung &#8222\;Advanced Leadership&#8220\; https://it.region-stuttgart.de/termine/advanced-leadership-modul3/
DTSTAMP:20260421T102058Z
ORGANIZER:IT Region Stuttgart
DTSTART:20250408T090000
DTEND:20250408T163000
LOCATION:
SUMMARY:Weiterbildung „Advanced Leadership“
END:VEVENT
END:VCALENDAR
