BEGIN:VCALENDAR
PRODID:-//IT Region Stuttgart //NONSGML Events //EN
VERSION:2.0
BEGIN:VTIMEZONE
TZID:Europe/Berlin
BEGIN:STANDARD
TZOFFSETFROM:+0100
TZOFFSETTO:+0100
DTSTART:19701025T030000
TZNAME:CEST
END:STANDARD
END:VTIMEZONE
METHOD:PUBLISH
BEGIN:VEVENT
UID:40926
URL;VALUE=URI:https://it.region-stuttgart.de/termine/startup-xpress-curriculum-advanced-marken25/
DESCRIPTION:STARTUP xpress CURRICULUM Advanced: Markenbildung\, Marken- und IP-Schutz\, Patentberatung https://it.region-stuttgart.de/termine/startup-xpress-curriculum-advanced-marken25/
DTSTAMP:20260421T102040Z
ORGANIZER:IT Region Stuttgart
DTSTART:20250701T160000
DTEND:20250701T190000
LOCATION:AI xpress, Röhrer Weg 8 , 71032 Böblingen
SUMMARY:STARTUP xpress CURRICULUM Advanced: Markenbildung, Marken- u
END:VEVENT
END:VCALENDAR
