BEGIN:VCALENDAR
PRODID:-//IT Region Stuttgart //NONSGML Events //EN
VERSION:2.0
BEGIN:VTIMEZONE
TZID:Europe/Berlin
BEGIN:STANDARD
TZOFFSETFROM:+0100
TZOFFSETTO:+0100
DTSTART:19701025T030000
TZNAME:CEST
END:STANDARD
END:VTIMEZONE
METHOD:PUBLISH
BEGIN:VEVENT
UID:40930
URL;VALUE=URI:https://it.region-stuttgart.de/termine/startup-xpress-curriculum-basic-zielgruppen25/
DESCRIPTION:STARTUP xpress Curriculum Basic: Wer soll dein Angebot kaufen und was suchen deine Kund*innen? https://it.region-stuttgart.de/termine/startup-xpress-curriculum-basic-zielgruppen25/
DTSTAMP:20260421T115843Z
ORGANIZER:IT Region Stuttgart
DTSTART:20250903T173000
DTEND:20250903T183000
LOCATION:
SUMMARY:STARTUP xpress Curriculum Basic: Wer soll dein Angebot kaufe
END:VEVENT
END:VCALENDAR
