BEGIN:VCALENDAR
PRODID:-//IT Region Stuttgart //NONSGML Events //EN
VERSION:2.0
BEGIN:VTIMEZONE
TZID:Europe/Berlin
BEGIN:STANDARD
TZOFFSETFROM:+0100
TZOFFSETTO:+0100
DTSTART:19701025T030000
TZNAME:CEST
END:STANDARD
END:VTIMEZONE
METHOD:PUBLISH
BEGIN:VEVENT
UID:41431
URL;VALUE=URI:https://it.region-stuttgart.de/termine/wordpress-meetup-stuttgart-2026-12/
DESCRIPTION:WordPress meetup Stuttgart | 2026.12 https://it.region-stuttgart.de/termine/wordpress-meetup-stuttgart-2026-12/
DTSTAMP:20260419T142552Z
ORGANIZER:IT Region Stuttgart
DTSTART:20261202T190000
DTEND:20261202T210000
LOCATION:
SUMMARY:WordPress meetup Stuttgart | 2026.12
END:VEVENT
END:VCALENDAR
