BEGIN:VCALENDAR
PRODID:-//IT Region Stuttgart //NONSGML Events //EN
VERSION:2.0
BEGIN:VTIMEZONE
TZID:Europe/Berlin
BEGIN:STANDARD
TZOFFSETFROM:+0100
TZOFFSETTO:+0100
DTSTART:19701025T030000
TZNAME:CEST
END:STANDARD
END:VTIMEZONE
METHOD:PUBLISH
BEGIN:VEVENT
UID:41702
URL;VALUE=URI:https://it.region-stuttgart.de/termine/zeit-fuer-meine-zukunft-weiterbildung-2/
DESCRIPTION:Zeit für meine Zukunft: Weiterbildung! https://it.region-stuttgart.de/termine/zeit-fuer-meine-zukunft-weiterbildung-2/
DTSTAMP:20260421T194652Z
ORGANIZER:IT Region Stuttgart
DTSTART:20260504T120000
DTEND:20260504T130000
LOCATION:
SUMMARY:Zeit für meine Zukunft: Weiterbildung!
END:VEVENT
END:VCALENDAR
