BEGIN:VCALENDAR
PRODID:-//IT Region Stuttgart //NONSGML Events //EN
VERSION:2.0
BEGIN:VTIMEZONE
TZID:Europe/Berlin
BEGIN:STANDARD
TZOFFSETFROM:+0100
TZOFFSETTO:+0100
DTSTART:19701025T030000
TZNAME:CEST
END:STANDARD
END:VTIMEZONE
METHOD:PUBLISH
BEGIN:VEVENT
UID:41704
URL;VALUE=URI:https://it.region-stuttgart.de/termine/frauen-in-fuehrung-wege-durch-die-glaeserne-decke/
DESCRIPTION:Frauen in Führung &#8211\; Wege durch die „gläserne Decke“ https://it.region-stuttgart.de/termine/frauen-in-fuehrung-wege-durch-die-glaeserne-decke/
DTSTAMP:20260421T194520Z
ORGANIZER:IT Region Stuttgart
DTSTART:20260505T140000
DTEND:20260505T160000
LOCATION:
SUMMARY:Frauen in Führung – Wege durch die „gläserne Decke“
END:VEVENT
END:VCALENDAR
