BEGIN:VCALENDAR
PRODID:-//IT Region Stuttgart //NONSGML Events //EN
VERSION:2.0
BEGIN:VTIMEZONE
TZID:Europe/Berlin
BEGIN:STANDARD
TZOFFSETFROM:+0100
TZOFFSETTO:+0100
DTSTART:19701025T030000
TZNAME:CEST
END:STANDARD
END:VTIMEZONE
METHOD:PUBLISH
BEGIN:VEVENT
UID:41706
URL;VALUE=URI:https://it.region-stuttgart.de/termine/turning-circular-ideas-into-successful-business-models-experiences-from-the-danube-region/
DESCRIPTION:Turning Circular Ideas into Successful Business Models – Experiences from the Danube Region​ https://it.region-stuttgart.de/termine/turning-circular-ideas-into-successful-business-models-experiences-from-the-danube-region/
DTSTAMP:20260422T200053Z
ORGANIZER:IT Region Stuttgart
DTSTART:20260513T110000
DTEND:20260513T150000
LOCATION:
SUMMARY:Turning Circular Ideas into Successful Business Models – E
END:VEVENT
END:VCALENDAR
